BEGIN:VCALENDAR
VERSION:2.0
PRODID:-//Sabre//Sabre VObject 4.5.8//EN
CALSCALE:GREGORIAN
BEGIN:VEVENT
UID:sabre-vobject-3644b60d-48f5-41fd-ac3b-f28a00dc5329
DTSTAMP:20260423T184215Z
SUMMARY:Shuttle to: Casino
DESCRIPTION:
X-ALT-DESC:FMTTYPE=text/html:<!DOCTYPE HTML PUBLIC "-//W3C//DTD HTML 3.2//E
 N"><HTML></HTML>
CREATED;TZID=America/Los_Angeles:20250917T083735
URL;VALUE=URI:https://yuma.armymwr.com/calendar/event
DTSTART;TZID=America/Los_Angeles:20251114T180000
DTEND;TZID=America/Los_Angeles:20251114T220000
SEQUENCE:0
END:VEVENT
BEGIN:VEVENT
UID:sabre-vobject-2e64627d-284a-4326-b00a-89cf9428c996
DTSTAMP:20260423T184215Z
SUMMARY:Shuttle to: Casino
DESCRIPTION:
X-ALT-DESC:FMTTYPE=text/html:<!DOCTYPE HTML PUBLIC "-//W3C//DTD HTML 3.2//E
 N"><HTML></HTML>
CREATED;TZID=America/Los_Angeles:20250917T083735
URL;VALUE=URI:https://yuma.armymwr.com/calendar/event
DTSTART;TZID=America/Los_Angeles:20251121T180000
DTEND;TZID=America/Los_Angeles:20251121T220000
SEQUENCE:1
END:VEVENT
END:VCALENDAR
