BEGIN:VCALENDAR
VERSION:2.0
PRODID:-//Sabre//Sabre VObject 4.5.8//EN
CALSCALE:GREGORIAN
BEGIN:VEVENT
UID:sabre-vobject-85a93560-0aad-444d-837e-ba5187c5910d
DTSTAMP:20260423T021031Z
SUMMARY:TurkeyBOWL
DESCRIPTION:
X-ALT-DESC:FMTTYPE=text/html:<!DOCTYPE HTML PUBLIC "-//W3C//DTD HTML 3.2//E
 N"><HTML></HTML>
CREATED;TZID=America/Los_Angeles:20250917T080425
URL;VALUE=URI:https://yuma.armymwr.com/calendar/event
DTSTART;TZID=America/Los_Angeles:20251126T170000
DTEND;TZID=America/Los_Angeles:20251126T190000
SEQUENCE:0
END:VEVENT
END:VCALENDAR
