BEGIN:VCALENDAR
VERSION:2.0
PRODID:-//Sabre//Sabre VObject 4.5.8//EN
CALSCALE:GREGORIAN
BEGIN:VEVENT
UID:sabre-vobject-c6f4e8c2-4cd9-49f5-8179-be68021180f2
DTSTAMP:20260423T052056Z
SUMMARY:Outdoor Recreation: Hiking Series 
DESCRIPTION:
X-ALT-DESC:FMTTYPE=text/html:<!DOCTYPE HTML PUBLIC "-//W3C//DTD HTML 3.2//E
 N"><HTML></HTML>
CREATED;TZID=America/Los_Angeles:20250917T082238
URL;VALUE=URI:https://yuma.armymwr.com/calendar/event
DTSTART;TZID=America/Los_Angeles:20251108T080000
DTEND;TZID=America/Los_Angeles:20251108T150000
SEQUENCE:0
END:VEVENT
BEGIN:VEVENT
UID:sabre-vobject-8abdcc79-4f70-492e-8a86-1c6ea77debff
DTSTAMP:20260423T052056Z
SUMMARY:Outdoor Recreation: Hiking Series 
DESCRIPTION:
X-ALT-DESC:FMTTYPE=text/html:<!DOCTYPE HTML PUBLIC "-//W3C//DTD HTML 3.2//E
 N"><HTML></HTML>
CREATED;TZID=America/Los_Angeles:20250917T082238
URL;VALUE=URI:https://yuma.armymwr.com/calendar/event
DTSTART;TZID=America/Los_Angeles:20251115T080000
DTEND;TZID=America/Los_Angeles:20251115T150000
SEQUENCE:1
END:VEVENT
BEGIN:VEVENT
UID:sabre-vobject-f3ce8018-de12-4c43-aaa7-d2f18f39e725
DTSTAMP:20260423T052056Z
SUMMARY:Outdoor Recreation: Hiking Series 
DESCRIPTION:
X-ALT-DESC:FMTTYPE=text/html:<!DOCTYPE HTML PUBLIC "-//W3C//DTD HTML 3.2//E
 N"><HTML></HTML>
CREATED;TZID=America/Los_Angeles:20250917T082238
URL;VALUE=URI:https://yuma.armymwr.com/calendar/event
DTSTART;TZID=America/Los_Angeles:20251122T080000
DTEND;TZID=America/Los_Angeles:20251122T150000
SEQUENCE:2
END:VEVENT
END:VCALENDAR
