BEGIN:VCALENDAR
VERSION:2.0
PRODID:-//Sabre//Sabre VObject 4.5.8//EN
CALSCALE:GREGORIAN
BEGIN:VEVENT
UID:sabre-vobject-d58b486d-bbf4-45b3-bea2-bdefaa49e912
DTSTAMP:20260424T005254Z
SUMMARY:Origami Class with Ms. Maiko 
DESCRIPTION:
X-ALT-DESC:FMTTYPE=text/html:<!DOCTYPE HTML PUBLIC "-//W3C//DTD HTML 3.2//E
 N"><HTML></HTML>
CREATED;TZID=America/Los_Angeles:20251218T060947
URL;VALUE=URI:https://yuma.armymwr.com/calendar/event
DTSTART;TZID=America/Los_Angeles:20260107T160000
DTEND;TZID=America/Los_Angeles:20260107T170000
SEQUENCE:0
END:VEVENT
END:VCALENDAR
