BEGIN:VCALENDAR
VERSION:2.0
PRODID:-//Sabre//Sabre VObject 4.5.8//EN
CALSCALE:GREGORIAN
BEGIN:VEVENT
UID:sabre-vobject-99e16a83-1dc4-49a1-987c-c79d189f261d
DTSTAMP:20260421T142225Z
SUMMARY:2026 Strong B.A.N.D.S. - Weekly Sports Challenge - WEEK 3
DESCRIPTION:
X-ALT-DESC:FMTTYPE=text/html:<!DOCTYPE HTML PUBLIC "-//W3C//DTD HTML 3.2//E
 N"><HTML></HTML>
CREATED;TZID=America/Los_Angeles:20260415T112951
URL;VALUE=URI:https://yuma.armymwr.com/calendar/event
DTSTART;TZID=America/Los_Angeles:20260518T080000
DTEND;TZID=America/Los_Angeles:20260522T170000
SEQUENCE:0
END:VEVENT
END:VCALENDAR
