BEGIN:VCALENDAR
VERSION:2.0
PRODID:-//Sabre//Sabre VObject 4.5.8//EN
CALSCALE:GREGORIAN
BEGIN:VEVENT
UID:sabre-vobject-4b11b3d3-f84e-403d-a690-2e4c915788bc
DTSTAMP:20260425T125737Z
SUMMARY:Dive In Movie - The Secret Life of Pets 2
DESCRIPTION:Feature Presentation starts at Dusk\n
X-ALT-DESC:FMTTYPE=text/html:<!DOCTYPE HTML PUBLIC "-//W3C//DTD HTML 3.2//E
 N"><HTML><p>Feature Presentation starts at Dusk</p>\n</HTML>
CREATED;TZID=America/Los_Angeles:20210812T151503
URL;VALUE=URI:https://yuma.armymwr.com/calendar/event
DTSTART;TZID=America/Los_Angeles:20210814T184500
DTEND;TZID=America/Los_Angeles:20210814T210000
SEQUENCE:0
END:VEVENT
END:VCALENDAR
