BEGIN:VCALENDAR
VERSION:2.0
PRODID:-//Sabre//Sabre VObject 4.5.8//EN
CALSCALE:GREGORIAN
BEGIN:VEVENT
UID:sabre-vobject-ffcf4e64-c0cc-4129-b5ac-f2907e2cdd71
DTSTAMP:20260426T014502Z
SUMMARY:Kahuna Lagoon Summer Hours
DESCRIPTION:23 July - 03 August\n
X-ALT-DESC:FMTTYPE=text/html:<!DOCTYPE HTML PUBLIC "-//W3C//DTD HTML 3.2//E
 N"><HTML><p>23 July - 03 August</p>\n</HTML>
CREATED;TZID=America/Los_Angeles:20210727T071253
URL;VALUE=URI:https://yuma.armymwr.com/calendar/event
DTSTART;TZID=America/Los_Angeles:20210723T140000
DTEND;TZID=America/Los_Angeles:20210723T200000
SEQUENCE:0
END:VEVENT
BEGIN:VEVENT
UID:sabre-vobject-163401ba-8e4b-41ca-80e2-e56024b120c5
DTSTAMP:20260426T014502Z
SUMMARY:Kahuna Lagoon Summer Hours
DESCRIPTION:23 July - 03 August\n
X-ALT-DESC:FMTTYPE=text/html:<!DOCTYPE HTML PUBLIC "-//W3C//DTD HTML 3.2//E
 N"><HTML><p>23 July - 03 August</p>\n</HTML>
CREATED;TZID=America/Los_Angeles:20210727T071253
URL;VALUE=URI:https://yuma.armymwr.com/calendar/event
DTSTART;TZID=America/Los_Angeles:20210724T140000
DTEND;TZID=America/Los_Angeles:20210724T200000
SEQUENCE:1
END:VEVENT
BEGIN:VEVENT
UID:sabre-vobject-91ee33a4-35e5-47a5-a5d6-81ffa4a00596
DTSTAMP:20260426T014502Z
SUMMARY:Kahuna Lagoon Summer Hours
DESCRIPTION:23 July - 03 August\n
X-ALT-DESC:FMTTYPE=text/html:<!DOCTYPE HTML PUBLIC "-//W3C//DTD HTML 3.2//E
 N"><HTML><p>23 July - 03 August</p>\n</HTML>
CREATED;TZID=America/Los_Angeles:20210727T071253
URL;VALUE=URI:https://yuma.armymwr.com/calendar/event
DTSTART;TZID=America/Los_Angeles:20210725T140000
DTEND;TZID=America/Los_Angeles:20210725T200000
SEQUENCE:2
END:VEVENT
BEGIN:VEVENT
UID:sabre-vobject-b7172a88-a248-4472-9ec0-cec64c2b5aab
DTSTAMP:20260426T014502Z
SUMMARY:Kahuna Lagoon Summer Hours
DESCRIPTION:23 July - 03 August\n
X-ALT-DESC:FMTTYPE=text/html:<!DOCTYPE HTML PUBLIC "-//W3C//DTD HTML 3.2//E
 N"><HTML><p>23 July - 03 August</p>\n</HTML>
CREATED;TZID=America/Los_Angeles:20210727T071253
URL;VALUE=URI:https://yuma.armymwr.com/calendar/event
DTSTART;TZID=America/Los_Angeles:20210728T140000
DTEND;TZID=America/Los_Angeles:20210728T200000
SEQUENCE:3
END:VEVENT
BEGIN:VEVENT
UID:sabre-vobject-b0cce6bd-7837-4f1d-9be1-87d077007dd6
DTSTAMP:20260426T014502Z
SUMMARY:Kahuna Lagoon Summer Hours
DESCRIPTION:23 July - 03 August\n
X-ALT-DESC:FMTTYPE=text/html:<!DOCTYPE HTML PUBLIC "-//W3C//DTD HTML 3.2//E
 N"><HTML><p>23 July - 03 August</p>\n</HTML>
CREATED;TZID=America/Los_Angeles:20210727T071253
URL;VALUE=URI:https://yuma.armymwr.com/calendar/event
DTSTART;TZID=America/Los_Angeles:20210729T140000
DTEND;TZID=America/Los_Angeles:20210729T200000
SEQUENCE:4
END:VEVENT
BEGIN:VEVENT
UID:sabre-vobject-d34283a5-29b5-40d3-b60c-aa69f9eab60c
DTSTAMP:20260426T014502Z
SUMMARY:Kahuna Lagoon Summer Hours
DESCRIPTION:23 July - 03 August\n
X-ALT-DESC:FMTTYPE=text/html:<!DOCTYPE HTML PUBLIC "-//W3C//DTD HTML 3.2//E
 N"><HTML><p>23 July - 03 August</p>\n</HTML>
CREATED;TZID=America/Los_Angeles:20210727T071253
URL;VALUE=URI:https://yuma.armymwr.com/calendar/event
DTSTART;TZID=America/Los_Angeles:20210730T140000
DTEND;TZID=America/Los_Angeles:20210730T200000
SEQUENCE:5
END:VEVENT
BEGIN:VEVENT
UID:sabre-vobject-5b4b5cd5-5cf5-49d7-9f76-4bcb366d4c54
DTSTAMP:20260426T014502Z
SUMMARY:Kahuna Lagoon Summer Hours
DESCRIPTION:23 July - 03 August\n
X-ALT-DESC:FMTTYPE=text/html:<!DOCTYPE HTML PUBLIC "-//W3C//DTD HTML 3.2//E
 N"><HTML><p>23 July - 03 August</p>\n</HTML>
CREATED;TZID=America/Los_Angeles:20210727T071253
URL;VALUE=URI:https://yuma.armymwr.com/calendar/event
DTSTART;TZID=America/Los_Angeles:20210731T140000
DTEND;TZID=America/Los_Angeles:20210731T200000
SEQUENCE:6
END:VEVENT
BEGIN:VEVENT
UID:sabre-vobject-1daae997-5e5a-4830-8ada-f1716474754e
DTSTAMP:20260426T014502Z
SUMMARY:Kahuna Lagoon Summer Hours
DESCRIPTION:23 July - 03 August\n
X-ALT-DESC:FMTTYPE=text/html:<!DOCTYPE HTML PUBLIC "-//W3C//DTD HTML 3.2//E
 N"><HTML><p>23 July - 03 August</p>\n</HTML>
CREATED;TZID=America/Los_Angeles:20210727T071253
URL;VALUE=URI:https://yuma.armymwr.com/calendar/event
DTSTART;TZID=America/Los_Angeles:20210801T140000
DTEND;TZID=America/Los_Angeles:20210801T200000
SEQUENCE:7
END:VEVENT
END:VCALENDAR
