BEGIN:VCALENDAR
VERSION:2.0
PRODID:-//Sabre//Sabre VObject 4.5.8//EN
CALSCALE:GREGORIAN
BEGIN:VEVENT
UID:sabre-vobject-e2b0aefa-4727-4cba-b463-3d2413ba5a4c
DTSTAMP:20260425T224415Z
SUMMARY:Pool Hours 04 - 11 AUGUST
DESCRIPTION:04 AUG - 11 AUG\n
X-ALT-DESC:FMTTYPE=text/html:<!DOCTYPE HTML PUBLIC "-//W3C//DTD HTML 3.2//E
 N"><HTML><p>04 AUG - 11 AUG</p>\n</HTML>
CREATED;TZID=America/Los_Angeles:20210802T131159
URL;VALUE=URI:https://yuma.armymwr.com/calendar/event
DTSTART;TZID=America/Los_Angeles:20210804T140000
DTEND;TZID=America/Los_Angeles:20210804T200000
SEQUENCE:0
END:VEVENT
BEGIN:VEVENT
UID:sabre-vobject-cf6bed1c-ad21-4a91-971c-edcfd477348c
DTSTAMP:20260425T224415Z
SUMMARY:Pool Hours 04 - 11 AUGUST
DESCRIPTION:04 AUG - 11 AUG\n
X-ALT-DESC:FMTTYPE=text/html:<!DOCTYPE HTML PUBLIC "-//W3C//DTD HTML 3.2//E
 N"><HTML><p>04 AUG - 11 AUG</p>\n</HTML>
CREATED;TZID=America/Los_Angeles:20210802T131159
URL;VALUE=URI:https://yuma.armymwr.com/calendar/event
DTSTART;TZID=America/Los_Angeles:20210805T140000
DTEND;TZID=America/Los_Angeles:20210805T200000
SEQUENCE:1
END:VEVENT
BEGIN:VEVENT
UID:sabre-vobject-bb13dbcc-7bf0-4647-a33b-b15ef074e0cb
DTSTAMP:20260425T224415Z
SUMMARY:Pool Hours 04 - 11 AUGUST
DESCRIPTION:04 AUG - 11 AUG\n
X-ALT-DESC:FMTTYPE=text/html:<!DOCTYPE HTML PUBLIC "-//W3C//DTD HTML 3.2//E
 N"><HTML><p>04 AUG - 11 AUG</p>\n</HTML>
CREATED;TZID=America/Los_Angeles:20210802T131159
URL;VALUE=URI:https://yuma.armymwr.com/calendar/event
DTSTART;TZID=America/Los_Angeles:20210806T140000
DTEND;TZID=America/Los_Angeles:20210806T200000
SEQUENCE:2
END:VEVENT
BEGIN:VEVENT
UID:sabre-vobject-bb89b5f1-94c6-45ce-a9ca-6f87f99165da
DTSTAMP:20260425T224415Z
SUMMARY:Pool Hours 04 - 11 AUGUST
DESCRIPTION:04 AUG - 11 AUG\n
X-ALT-DESC:FMTTYPE=text/html:<!DOCTYPE HTML PUBLIC "-//W3C//DTD HTML 3.2//E
 N"><HTML><p>04 AUG - 11 AUG</p>\n</HTML>
CREATED;TZID=America/Los_Angeles:20210802T131159
URL;VALUE=URI:https://yuma.armymwr.com/calendar/event
DTSTART;TZID=America/Los_Angeles:20210807T140000
DTEND;TZID=America/Los_Angeles:20210807T200000
SEQUENCE:3
END:VEVENT
BEGIN:VEVENT
UID:sabre-vobject-73d32481-4a44-4fb4-8cf1-e16b2a094040
DTSTAMP:20260425T224415Z
SUMMARY:Pool Hours 04 - 11 AUGUST
DESCRIPTION:04 AUG - 11 AUG\n
X-ALT-DESC:FMTTYPE=text/html:<!DOCTYPE HTML PUBLIC "-//W3C//DTD HTML 3.2//E
 N"><HTML><p>04 AUG - 11 AUG</p>\n</HTML>
CREATED;TZID=America/Los_Angeles:20210802T131159
URL;VALUE=URI:https://yuma.armymwr.com/calendar/event
DTSTART;TZID=America/Los_Angeles:20210808T140000
DTEND;TZID=America/Los_Angeles:20210808T200000
SEQUENCE:4
END:VEVENT
BEGIN:VEVENT
UID:sabre-vobject-a92cd933-de80-4304-8624-6190a50b84c0
DTSTAMP:20260425T224415Z
SUMMARY:Pool Hours 04 - 11 AUGUST
DESCRIPTION:04 AUG - 11 AUG\n
X-ALT-DESC:FMTTYPE=text/html:<!DOCTYPE HTML PUBLIC "-//W3C//DTD HTML 3.2//E
 N"><HTML><p>04 AUG - 11 AUG</p>\n</HTML>
CREATED;TZID=America/Los_Angeles:20210802T131159
URL;VALUE=URI:https://yuma.armymwr.com/calendar/event
DTSTART;TZID=America/Los_Angeles:20210811T140000
DTEND;TZID=America/Los_Angeles:20210811T200000
SEQUENCE:5
END:VEVENT
END:VCALENDAR
