BEGIN:VCALENDAR
VERSION:2.0
PRODID:-//Sabre//Sabre VObject 4.5.8//EN
CALSCALE:GREGORIAN
BEGIN:VEVENT
UID:sabre-vobject-075280ea-54fe-44df-9df4-f5828fc0db3a
DTSTAMP:20260425T142022Z
SUMMARY:August Friday FUN Night  at Coyote Lanes
DESCRIPTION:Large single topping pizza with a pound of wings and 4 medium d
 rinks for $20. Add 1 hour of Bowling for only $15.00 (shoe rental not incl
 uded)\n
X-ALT-DESC:FMTTYPE=text/html:<!DOCTYPE HTML PUBLIC "-//W3C//DTD HTML 3.2//E
 N"><HTML><p>Large single topping pizza with a pound of wings and 4 medium 
 drinks for $20. Add 1 hour of Bowling for only $15.00 (shoe rental not inc
 luded)</p>\n</HTML>
CREATED;TZID=America/Los_Angeles:20210819T104341
URL;VALUE=URI:https://yuma.armymwr.com/calendar/event
DTSTART;TZID=America/Los_Angeles:20210806T150000
DTEND;TZID=America/Los_Angeles:20210806T200000
SEQUENCE:0
END:VEVENT
END:VCALENDAR
