BEGIN:VCALENDAR
VERSION:2.0
PRODID:-//Sabre//Sabre VObject 4.5.8//EN
CALSCALE:GREGORIAN
BEGIN:VEVENT
UID:sabre-vobject-63b91a0a-7f15-4496-8ba0-8d12628d11ff
DTSTAMP:20260424T140032Z
SUMMARY:PUNT\, PASS & KICK
DESCRIPTION:Join us for this event where boys and girls get to compete indi
 vidually against their peers in football skills. Ten (10) competing age gr
 oups\, ages 6-15. Youth compete in their own age group.&nbsp\;\n
X-ALT-DESC:FMTTYPE=text/html:<!DOCTYPE HTML PUBLIC "-//W3C//DTD HTML 3.2//E
 N"><HTML><p>Join us for this event where boys and girls get to compete ind
 ividually against their peers in football skills. Ten (10) competing age g
 roups\, ages 6-15. Youth compete in their own age group.&nbsp\;</p>\n</HTM
 L>
CREATED;TZID=America/Los_Angeles:20210819T104137
URL;VALUE=URI:https://yuma.armymwr.com/calendar/event
DTSTART;TZID=America/Los_Angeles:20210913T150000
DTEND;TZID=America/Los_Angeles:20210913T173000
SEQUENCE:0
END:VEVENT
END:VCALENDAR
