BEGIN:VCALENDAR
VERSION:2.0
PRODID:-//Sabre//Sabre VObject 4.5.8//EN
CALSCALE:GREGORIAN
BEGIN:VEVENT
UID:sabre-vobject-e5e7e71e-5c61-4619-9166-fe4c1a2722bd
DTSTAMP:20260425T101818Z
SUMMARY:Pool Hours 26 Aug - 01 Sept
DESCRIPTION:Pool Hours 26 Aug - 01 Sep\n
X-ALT-DESC:FMTTYPE=text/html:<!DOCTYPE HTML PUBLIC "-//W3C//DTD HTML 3.2//E
 N"><HTML><p>Pool Hours 26 Aug - 01 Sep</p>\n</HTML>
CREATED;TZID=America/Los_Angeles:20210824T082637
URL;VALUE=URI:https://yuma.armymwr.com/calendar/event
DTSTART;TZID=America/Los_Angeles:20210827T150000
DTEND;TZID=America/Los_Angeles:20210827T190000
SEQUENCE:0
END:VEVENT
BEGIN:VEVENT
UID:sabre-vobject-5159654c-2ff0-4801-8d36-aa062d43a28f
DTSTAMP:20260425T101818Z
SUMMARY:Pool Hours 26 Aug - 01 Sept
DESCRIPTION:Pool Hours 26 Aug - 01 Sep\n
X-ALT-DESC:FMTTYPE=text/html:<!DOCTYPE HTML PUBLIC "-//W3C//DTD HTML 3.2//E
 N"><HTML><p>Pool Hours 26 Aug - 01 Sep</p>\n</HTML>
CREATED;TZID=America/Los_Angeles:20210824T082637
URL;VALUE=URI:https://yuma.armymwr.com/calendar/event
DTSTART;TZID=America/Los_Angeles:20210828T110000
DTEND;TZID=America/Los_Angeles:20210828T190000
SEQUENCE:1
END:VEVENT
BEGIN:VEVENT
UID:sabre-vobject-972f8683-288e-4353-a610-a5aaaa309d75
DTSTAMP:20260425T101818Z
SUMMARY:Pool Hours 26 Aug - 01 Sept
DESCRIPTION:Pool Hours 26 Aug - 01 Sep\n
X-ALT-DESC:FMTTYPE=text/html:<!DOCTYPE HTML PUBLIC "-//W3C//DTD HTML 3.2//E
 N"><HTML><p>Pool Hours 26 Aug - 01 Sep</p>\n</HTML>
CREATED;TZID=America/Los_Angeles:20210824T082637
URL;VALUE=URI:https://yuma.armymwr.com/calendar/event
DTSTART;TZID=America/Los_Angeles:20210829T110000
DTEND;TZID=America/Los_Angeles:20210829T190000
SEQUENCE:2
END:VEVENT
END:VCALENDAR
