BEGIN:VCALENDAR
VERSION:2.0
PRODID:-//Sabre//Sabre VObject 4.5.8//EN
CALSCALE:GREGORIAN
BEGIN:VEVENT
UID:sabre-vobject-bad2143d-e66f-43c5-8115-a8a4c840a4e0
DTSTAMP:20260422T075203Z
SUMMARY:Thursday Night Football Specials at Cactus Cafe
DESCRIPTION:Are you ready for some FOOTBALL????!!!!\n
X-ALT-DESC:FMTTYPE=text/html:<!DOCTYPE HTML PUBLIC "-//W3C//DTD HTML 3.2//E
 N"><HTML><p>Are you ready for some FOOTBALL????!!!!</p>\n</HTML>
CREATED;TZID=America/Los_Angeles:20211025T092549
URL;VALUE=URI:https://yuma.armymwr.com/calendar/event
DTSTART;TZID=America/Los_Angeles:20211118T170000
DTEND;TZID=America/Los_Angeles:20211118T200000
SEQUENCE:0
END:VEVENT
END:VCALENDAR
