BEGIN:VCALENDAR
VERSION:2.0
PRODID:-//Sabre//Sabre VObject 4.5.8//EN
CALSCALE:GREGORIAN
BEGIN:VEVENT
UID:sabre-vobject-b67c084f-ea59-44ce-8b24-fefd56946409
DTSTAMP:20260423T203233Z
SUMMARY:Fall Fun Fest at Cox Field
DESCRIPTION:Admission - Donation of 1 Package of Unopened (Purchased) Pastr
 ies or Baked Goods\n
X-ALT-DESC:FMTTYPE=text/html:<!DOCTYPE HTML PUBLIC "-//W3C//DTD HTML 3.2//E
 N"><HTML><p>Admission - Donation of 1 Package of Unopened (Purchased) Past
 ries or Baked Goods</p>\n</HTML>
CREATED;TZID=America/Los_Angeles:20211005T103006
URL;VALUE=URI:https://yuma.armymwr.com/calendar/event
DTSTART;TZID=America/Los_Angeles:20211029T180000
DTEND;TZID=America/Los_Angeles:20211029T200000
SEQUENCE:0
END:VEVENT
END:VCALENDAR
