BEGIN:VCALENDAR
VERSION:2.0
PRODID:-//Sabre//Sabre VObject 4.5.8//EN
CALSCALE:GREGORIAN
BEGIN:VEVENT
UID:sabre-vobject-9e0ce4c4-7a33-4a83-83cd-0634b94fcb6b
DTSTAMP:20260424T105941Z
SUMMARY:PAWS Against Domestic Violence at YPG VTF BLDG 226
DESCRIPTION:Pet Costume Contest - MCAS Working Dog Demonstration - Barking 
 Contest - Children&#39\;s Activities\, Games\, Prizes\, and More!\n
X-ALT-DESC:FMTTYPE=text/html:<!DOCTYPE HTML PUBLIC "-//W3C//DTD HTML 3.2//E
 N"><HTML><p>Pet Costume Contest - MCAS Working Dog Demonstration - Barking
  Contest - Children&#39\;s Activities\, Games\, Prizes\, and More!</p>\n</
 HTML>
CREATED;TZID=America/Los_Angeles:20210920T125533
URL;VALUE=URI:https://yuma.armymwr.com/calendar/event
DTSTART;TZID=America/Los_Angeles:20211028T150000
DTEND;TZID=America/Los_Angeles:20211028T170000
SEQUENCE:0
END:VEVENT
END:VCALENDAR
