BEGIN:VCALENDAR
VERSION:2.0
PRODID:-//Sabre//Sabre VObject 4.5.8//EN
CALSCALE:GREGORIAN
BEGIN:VEVENT
UID:sabre-vobject-d75bfd6f-7d20-4f82-8f03-1f3689ae8ade
DTSTAMP:20260424T143730Z
SUMMARY:Line Dancing
DESCRIPTION:Hip Hop Line Dancing&nbsp\;\n
X-ALT-DESC:FMTTYPE=text/html:<!DOCTYPE HTML PUBLIC "-//W3C//DTD HTML 3.2//E
 N"><HTML><p>Hip Hop Line Dancing&nbsp\;</p>\n</HTML>
CREATED;TZID=America/Los_Angeles:20210930T090917
URL;VALUE=URI:https://yuma.armymwr.com/calendar/event
DTSTART;TZID=America/Los_Angeles:20211002T183000
DTEND;TZID=America/Los_Angeles:20211002T200000
SEQUENCE:0
END:VEVENT
END:VCALENDAR
