BEGIN:VCALENDAR
VERSION:2.0
PRODID:-//Sabre//Sabre VObject 4.5.8//EN
CALSCALE:GREGORIAN
BEGIN:VEVENT
UID:sabre-vobject-447b2a2a-b052-494b-951e-663d09610ccc
DTSTAMP:20260423T232049Z
SUMMARY:Effective Communication - Virtually
DESCRIPTION:Join Army Community Service Family Advocacy Program as we partn
 er with The American red cross to recognize domestic violence prevention m
 onth by learning resiliency. This is a virtual event and is completely fre
 e\, register to learn and practice new skills!\n
X-ALT-DESC:FMTTYPE=text/html:<!DOCTYPE HTML PUBLIC "-//W3C//DTD HTML 3.2//E
 N"><HTML><p>Join Army Community Service Family Advocacy Program as we part
 ner with The American red cross to recognize domestic violence prevention 
 month by learning resiliency. This is a virtual event and is completely fr
 ee\, register to learn and practice new skills!</p>\n</HTML>
CREATED;TZID=America/Los_Angeles:20211007T105135
URL;VALUE=URI:https://yuma.armymwr.com/calendar/event
DTSTART;TZID=America/Los_Angeles:20211012T163000
DTEND;TZID=America/Los_Angeles:20211012T173000
SEQUENCE:0
END:VEVENT
END:VCALENDAR
