BEGIN:VCALENDAR
VERSION:2.0
PRODID:-//Sabre//Sabre VObject 4.5.8//EN
CALSCALE:GREGORIAN
BEGIN:VEVENT
UID:sabre-vobject-28c59ec3-1d02-4517-862c-29be510b5700
DTSTAMP:20260423T203232Z
SUMMARY:Rattlesnake Readiness for Dogs
DESCRIPTION:Rattlesnake Ready\, LLC will be in the area to provide training
  to your dogs to avoid the sight\, scent\, and sound of live rattlesnakes.
 \n
X-ALT-DESC:FMTTYPE=text/html:<!DOCTYPE HTML PUBLIC "-//W3C//DTD HTML 3.2//E
 N"><HTML><p>Rattlesnake Ready\, LLC will be in the area to provide trainin
 g to your dogs to avoid the sight\, scent\, and sound of live rattlesnakes
 .</p>\n</HTML>
CREATED;TZID=America/Los_Angeles:20211007T100044
URL;VALUE=URI:https://yuma.armymwr.com/calendar/event
DTSTART;TZID=America/Los_Angeles:20211029T080000
DTEND;TZID=America/Los_Angeles:20211029T170000
SEQUENCE:0
END:VEVENT
END:VCALENDAR
