BEGIN:VCALENDAR
VERSION:2.0
PRODID:-//Sabre//Sabre VObject 4.5.8//EN
CALSCALE:GREGORIAN
BEGIN:VEVENT
UID:sabre-vobject-271abaec-c369-4a2b-bd6d-510a9d4a94f4
DTSTAMP:20260423T214526Z
SUMMARY:Cactus Cafe Closed Until Further Notice
DESCRIPTION:As of 18 Oct 21 the Cactus Cafe will be closed to the public un
 til further notice. We apologize for any inconvenience. Please join us at 
 Coyote Lanes Monday - Thursday 1000 - 2000 and Friday - Sunday 1100- 2000 
 for all your dining needs.&nbsp\;\n
X-ALT-DESC:FMTTYPE=text/html:<!DOCTYPE HTML PUBLIC "-//W3C//DTD HTML 3.2//E
 N"><HTML><p>As of 18 Oct 21 the Cactus Cafe will be closed to the public u
 ntil further notice. We apologize for any inconvenience. Please join us at
  Coyote Lanes Monday - Thursday 1000 - 2000 and Friday - Sunday 1100- 2000
  for all your dining needs.&nbsp\;</p>\n</HTML>
CREATED;TZID=America/Los_Angeles:20211014T164228
URL;VALUE=URI:https://yuma.armymwr.com/calendar/event
DTSTART;TZID=America/Los_Angeles:20211018T000000
DTEND;TZID=America/Los_Angeles:20211031T233500
SEQUENCE:0
END:VEVENT
END:VCALENDAR
