BEGIN:VCALENDAR
VERSION:2.0
PRODID:-//Sabre//Sabre VObject 4.5.8//EN
CALSCALE:GREGORIAN
BEGIN:VEVENT
UID:sabre-vobject-ea238cfc-1901-42ed-b7c2-b75551ccf879
DTSTAMP:20260423T134449Z
SUMMARY:Veterans Day Hours of Operation
DESCRIPTION:DFMWR Hours of Operation on Veterans Day\n
X-ALT-DESC:FMTTYPE=text/html:<!DOCTYPE HTML PUBLIC "-//W3C//DTD HTML 3.2//E
 N"><HTML><p>DFMWR Hours of Operation on Veterans Day</p>\n</HTML>
CREATED;TZID=America/Los_Angeles:20211108T143122
URL;VALUE=URI:https://yuma.armymwr.com/calendar/event
DTSTART;TZID=America/Los_Angeles:20211111T000000
DTEND;TZID=America/Los_Angeles:20211111T233500
SEQUENCE:0
END:VEVENT
END:VCALENDAR
