BEGIN:VCALENDAR
VERSION:2.0
PRODID:-//Sabre//Sabre VObject 4.5.8//EN
CALSCALE:GREGORIAN
BEGIN:VEVENT
UID:sabre-vobject-ccf85185-c5d4-4adb-ac9a-33f5bd547843
DTSTAMP:20260423T184211Z
SUMMARY:Community Cleanup
DESCRIPTION:Community Cleanup\n
X-ALT-DESC:FMTTYPE=text/html:<!DOCTYPE HTML PUBLIC "-//W3C//DTD HTML 3.2//E
 N"><HTML><p>Community Cleanup</p>\n</HTML>
CREATED;TZID=America/Los_Angeles:20211206T072435
URL;VALUE=URI:https://yuma.armymwr.com/calendar/event
DTSTART;TZID=America/Los_Angeles:20211211T080000
DTEND;TZID=America/Los_Angeles:20211211T110000
SEQUENCE:0
END:VEVENT
END:VCALENDAR
