BEGIN:VCALENDAR
VERSION:2.0
PRODID:-//Sabre//Sabre VObject 4.5.8//EN
CALSCALE:GREGORIAN
BEGIN:VEVENT
UID:sabre-vobject-7c40deb7-3aca-4145-b06e-c097b15509d3
DTSTAMP:20260423T184216Z
SUMMARY:Retirement/Preretirement Briefing
DESCRIPTION:30 minute retirement/preretirement briefing and 30 minute quest
 ion and answers\n
X-ALT-DESC:FMTTYPE=text/html:<!DOCTYPE HTML PUBLIC "-//W3C//DTD HTML 3.2//E
 N"><HTML><p>30 minute retirement/preretirement briefing and 30 minute ques
 tion and answers</p>\n</HTML>
CREATED;TZID=America/Los_Angeles:20211206T130939
URL;VALUE=URI:https://yuma.armymwr.com/calendar/event
DTSTART;TZID=America/Los_Angeles:20211215T113000
DTEND;TZID=America/Los_Angeles:20211215T123000
SEQUENCE:0
END:VEVENT
END:VCALENDAR
