BEGIN:VCALENDAR
VERSION:2.0
PRODID:-//Sabre//Sabre VObject 4.5.8//EN
CALSCALE:GREGORIAN
BEGIN:VEVENT
UID:sabre-vobject-6d7f8b22-688c-4709-94b5-61701088846b
DTSTAMP:20260423T184213Z
SUMMARY:Hip Hop Line Dancing
DESCRIPTION:Learn to line dance and put those steps to music! This is a YPG
  Community Class\, children under 18 must be accompanied by an adult\, and
  masks are required.\n
X-ALT-DESC:FMTTYPE=text/html:<!DOCTYPE HTML PUBLIC "-//W3C//DTD HTML 3.2//E
 N"><HTML><p>Learn to line dance and put those steps to music! This is a YP
 G Community Class\, children under 18 must be accompanied by an adult\, an
 d masks are required.</p>\n</HTML>
CREATED;TZID=America/Los_Angeles:20211207T140056
URL;VALUE=URI:https://yuma.armymwr.com/calendar/event
DTSTART;TZID=America/Los_Angeles:20211210T183000
DTEND;TZID=America/Los_Angeles:20211210T200000
SEQUENCE:0
END:VEVENT
END:VCALENDAR
