BEGIN:VCALENDAR
VERSION:2.0
PRODID:-//Sabre//Sabre VObject 4.5.8//EN
CALSCALE:GREGORIAN
BEGIN:VEVENT
UID:sabre-vobject-189e80e0-720e-4985-8923-94b467c1ac73
DTSTAMP:20260422T223703Z
SUMMARY:Holiday Party Hours of Operation
DESCRIPTION:Holiday Party Hours of Operation\n
X-ALT-DESC:FMTTYPE=text/html:<!DOCTYPE HTML PUBLIC "-//W3C//DTD HTML 3.2//E
 N"><HTML><p>Holiday Party Hours of Operation</p>\n</HTML>
CREATED;TZID=America/Los_Angeles:20211214T101154
URL;VALUE=URI:https://yuma.armymwr.com/calendar/event
DTSTART;TZID=America/Los_Angeles:20211216T050000
DTEND;TZID=America/Los_Angeles:20211216T220000
SEQUENCE:0
END:VEVENT
END:VCALENDAR
