BEGIN:VCALENDAR
VERSION:2.0
PRODID:-//Sabre//Sabre VObject 4.5.8//EN
CALSCALE:GREGORIAN
BEGIN:VEVENT
UID:sabre-vobject-c9c2b134-473f-4544-a9f2-10c3e8fba5e4
DTSTAMP:20260421T093838Z
SUMMARY:February: Skate Night 
DESCRIPTION:Come out for a night of skating!&nbsp\;\n
X-ALT-DESC:FMTTYPE=text/html:<!DOCTYPE HTML PUBLIC "-//W3C//DTD HTML 3.2//E
 N"><HTML><p>Come out for a night of skating!&nbsp\;</p>\n</HTML>
CREATED;TZID=America/Los_Angeles:20220118T053925
URL;VALUE=URI:https://yuma.armymwr.com/calendar/event
DTSTART;TZID=America/Los_Angeles:20220218T183000
DTEND;TZID=America/Los_Angeles:20220218T203000
SEQUENCE:0
END:VEVENT
END:VCALENDAR
