BEGIN:VCALENDAR
VERSION:2.0
PRODID:-//Sabre//Sabre VObject 4.5.8//EN
CALSCALE:GREGORIAN
BEGIN:VEVENT
UID:sabre-vobject-aed12325-d908-4b45-9f6f-0c3c30d8bf95
DTSTAMP:20260421T081818Z
SUMMARY:President's Day Hours of Operation 
DESCRIPTION:
X-ALT-DESC:FMTTYPE=text/html:<!DOCTYPE HTML PUBLIC "-//W3C//DTD HTML 3.2//E
 N"><HTML></HTML>
CREATED;TZID=America/Los_Angeles:20220201T151555
URL;VALUE=URI:https://yuma.armymwr.com/calendar/event
DTSTART;TZID=America/Los_Angeles:20220221T000000
DTEND;TZID=America/Los_Angeles:20220221T235959
SEQUENCE:0
END:VEVENT
END:VCALENDAR
