BEGIN:VCALENDAR
VERSION:2.0
PRODID:-//Sabre//Sabre VObject 4.5.8//EN
CALSCALE:GREGORIAN
BEGIN:VEVENT
UID:sabre-vobject-2aafa243-db8d-4454-994d-a8fc238ee3b8
DTSTAMP:20260423T142128Z
SUMMARY:"Bring the Heat" AC Prep Clinic 
DESCRIPTION:
X-ALT-DESC:FMTTYPE=text/html:<!DOCTYPE HTML PUBLIC "-//W3C//DTD HTML 3.2//E
 N"><HTML></HTML>
CREATED;TZID=America/Los_Angeles:20220317T081848
URL;VALUE=URI:https://yuma.armymwr.com/calendar/event
DTSTART;TZID=America/Los_Angeles:20220324T163000
DTEND;TZID=America/Los_Angeles:20220324T183000
SEQUENCE:0
END:VEVENT
END:VCALENDAR
