BEGIN:VCALENDAR
VERSION:2.0
PRODID:-//Sabre//Sabre VObject 4.5.8//EN
CALSCALE:GREGORIAN
BEGIN:VEVENT
UID:sabre-vobject-9383d0cd-058d-4b92-ab6e-26dacaa2b84d
DTSTAMP:20260419T202448Z
SUMMARY:Strong B.A.N.D.S.: Kids Fit 
DESCRIPTION:
X-ALT-DESC:FMTTYPE=text/html:<!DOCTYPE HTML PUBLIC "-//W3C//DTD HTML 3.2//E
 N"><HTML></HTML>
CREATED;TZID=America/Los_Angeles:20220404T065728
URL;VALUE=URI:https://yuma.armymwr.com/calendar/event
DTSTART;TZID=America/Los_Angeles:20220502T130000
DTEND;TZID=America/Los_Angeles:20220502T143000
SEQUENCE:0
END:VEVENT
END:VCALENDAR
