BEGIN:VCALENDAR
VERSION:2.0
PRODID:-//Sabre//Sabre VObject 4.5.8//EN
CALSCALE:GREGORIAN
BEGIN:VEVENT
UID:sabre-vobject-19f86b83-17aa-41f8-b154-d5dd3a94bce0
DTSTAMP:20260420T064742Z
SUMMARY:Mother's Day Special 
DESCRIPTION:
X-ALT-DESC:FMTTYPE=text/html:<!DOCTYPE HTML PUBLIC "-//W3C//DTD HTML 3.2//E
 N"><HTML></HTML>
CREATED;TZID=America/Los_Angeles:20220406T071411
URL;VALUE=URI:https://yuma.armymwr.com/calendar/event
DTSTART;TZID=America/Los_Angeles:20220508T150000
DTEND;TZID=America/Los_Angeles:20220508T200000
SEQUENCE:0
END:VEVENT
END:VCALENDAR
