BEGIN:VCALENDAR
VERSION:2.0
PRODID:-//Sabre//Sabre VObject 4.5.8//EN
CALSCALE:GREGORIAN
BEGIN:VEVENT
UID:sabre-vobject-57c50324-d90c-457e-8149-20c07de85dba
DTSTAMP:20260421T040856Z
SUMMARY:Cinco De Mayo Lunch Special at Cactus Cafe 
DESCRIPTION:
X-ALT-DESC:FMTTYPE=text/html:<!DOCTYPE HTML PUBLIC "-//W3C//DTD HTML 3.2//E
 N"><HTML></HTML>
CREATED;TZID=America/Los_Angeles:20220428T091649
URL;VALUE=URI:https://yuma.armymwr.com/calendar/event
DTSTART;TZID=America/Los_Angeles:20220505T110000
DTEND;TZID=America/Los_Angeles:20220505T130000
SEQUENCE:0
END:VEVENT
END:VCALENDAR
