BEGIN:VCALENDAR
VERSION:2.0
PRODID:-//Sabre//Sabre VObject 4.5.8//EN
CALSCALE:GREGORIAN
BEGIN:VEVENT
UID:sabre-vobject-7ca67e8a-76cb-4b58-a1a6-eacf375c6eb8
DTSTAMP:20260419T202449Z
SUMMARY:May Skate Night
DESCRIPTION:
X-ALT-DESC:FMTTYPE=text/html:<!DOCTYPE HTML PUBLIC "-//W3C//DTD HTML 3.2//E
 N"><HTML></HTML>
CREATED;TZID=America/Los_Angeles:20220427T093219
URL;VALUE=URI:https://yuma.armymwr.com/calendar/event
DTSTART;TZID=America/Los_Angeles:20220513T183000
DTEND;TZID=America/Los_Angeles:20220513T203000
SEQUENCE:0
END:VEVENT
END:VCALENDAR
