BEGIN:VCALENDAR
VERSION:2.0
PRODID:-//Sabre//Sabre VObject 4.5.8//EN
CALSCALE:GREGORIAN
BEGIN:VEVENT
UID:sabre-vobject-1a549575-24b0-4046-8d8e-db5bbc1a20c6
DTSTAMP:20260423T130359Z
SUMMARY:Homeschool P.E.: Water Aerobics
DESCRIPTION:
X-ALT-DESC:FMTTYPE=text/html:<!DOCTYPE HTML PUBLIC "-//W3C//DTD HTML 3.2//E
 N"><HTML></HTML>
CREATED;TZID=America/Los_Angeles:20230712T111300
URL;VALUE=URI:https://yuma.armymwr.com/calendar/event
DTSTART;TZID=America/Los_Angeles:20230809T130000
DTEND;TZID=America/Los_Angeles:20230809T140000
SEQUENCE:0
END:VEVENT
BEGIN:VEVENT
UID:sabre-vobject-facda10a-2233-4c52-8bba-353922fdfed9
DTSTAMP:20260423T130359Z
SUMMARY:Homeschool P.E.: Water Aerobics
DESCRIPTION:
X-ALT-DESC:FMTTYPE=text/html:<!DOCTYPE HTML PUBLIC "-//W3C//DTD HTML 3.2//E
 N"><HTML></HTML>
CREATED;TZID=America/Los_Angeles:20230712T111300
URL;VALUE=URI:https://yuma.armymwr.com/calendar/event
DTSTART;TZID=America/Los_Angeles:20230816T130000
DTEND;TZID=America/Los_Angeles:20230816T140000
SEQUENCE:1
END:VEVENT
BEGIN:VEVENT
UID:sabre-vobject-99fba926-b502-4b29-91f6-1b9b3d50d6dd
DTSTAMP:20260423T130359Z
SUMMARY:Homeschool P.E.: Water Aerobics
DESCRIPTION:
X-ALT-DESC:FMTTYPE=text/html:<!DOCTYPE HTML PUBLIC "-//W3C//DTD HTML 3.2//E
 N"><HTML></HTML>
CREATED;TZID=America/Los_Angeles:20230712T111300
URL;VALUE=URI:https://yuma.armymwr.com/calendar/event
DTSTART;TZID=America/Los_Angeles:20230823T130000
DTEND;TZID=America/Los_Angeles:20230823T140000
SEQUENCE:2
END:VEVENT
BEGIN:VEVENT
UID:sabre-vobject-2296bc0e-2075-47a2-92f3-6b852b377dbd
DTSTAMP:20260423T130359Z
SUMMARY:Homeschool P.E.: Water Aerobics
DESCRIPTION:
X-ALT-DESC:FMTTYPE=text/html:<!DOCTYPE HTML PUBLIC "-//W3C//DTD HTML 3.2//E
 N"><HTML></HTML>
CREATED;TZID=America/Los_Angeles:20230712T111300
URL;VALUE=URI:https://yuma.armymwr.com/calendar/event
DTSTART;TZID=America/Los_Angeles:20230830T130000
DTEND;TZID=America/Los_Angeles:20230830T140000
SEQUENCE:3
END:VEVENT
END:VCALENDAR
