BEGIN:VCALENDAR
VERSION:2.0
PRODID:-//Sabre//Sabre VObject 4.5.8//EN
CALSCALE:GREGORIAN
BEGIN:VEVENT
UID:sabre-vobject-a4f02de7-b3e1-4e8c-9e28-794ffbecde26
DTSTAMP:20260423T142121Z
SUMMARY:August Lunch Specials
DESCRIPTION:
X-ALT-DESC:FMTTYPE=text/html:<!DOCTYPE HTML PUBLIC "-//W3C//DTD HTML 3.2//E
 N"><HTML></HTML>
CREATED;TZID=America/Los_Angeles:20230801T080017
URL;VALUE=URI:https://yuma.armymwr.com/calendar/event
DTSTART;TZID=America/Los_Angeles:20230801T110000
DTEND;TZID=America/Los_Angeles:20230803T130000
SEQUENCE:0
END:VEVENT
BEGIN:VEVENT
UID:sabre-vobject-abaca2f9-5769-4df7-8244-2c8c96336b49
DTSTAMP:20260423T142121Z
SUMMARY:August Lunch Specials
DESCRIPTION:
X-ALT-DESC:FMTTYPE=text/html:<!DOCTYPE HTML PUBLIC "-//W3C//DTD HTML 3.2//E
 N"><HTML></HTML>
CREATED;TZID=America/Los_Angeles:20230801T080017
URL;VALUE=URI:https://yuma.armymwr.com/calendar/event
DTSTART;TZID=America/Los_Angeles:20230807T110000
DTEND;TZID=America/Los_Angeles:20230810T130000
SEQUENCE:1
END:VEVENT
BEGIN:VEVENT
UID:sabre-vobject-9f16d19b-1878-46cb-acad-ee9f8d64c048
DTSTAMP:20260423T142121Z
SUMMARY:August Lunch Specials
DESCRIPTION:
X-ALT-DESC:FMTTYPE=text/html:<!DOCTYPE HTML PUBLIC "-//W3C//DTD HTML 3.2//E
 N"><HTML></HTML>
CREATED;TZID=America/Los_Angeles:20230801T080017
URL;VALUE=URI:https://yuma.armymwr.com/calendar/event
DTSTART;TZID=America/Los_Angeles:20230814T110000
DTEND;TZID=America/Los_Angeles:20230817T130000
SEQUENCE:2
END:VEVENT
BEGIN:VEVENT
UID:sabre-vobject-1799857f-2491-401d-a999-eeafe989538d
DTSTAMP:20260423T142121Z
SUMMARY:August Lunch Specials
DESCRIPTION:
X-ALT-DESC:FMTTYPE=text/html:<!DOCTYPE HTML PUBLIC "-//W3C//DTD HTML 3.2//E
 N"><HTML></HTML>
CREATED;TZID=America/Los_Angeles:20230801T080017
URL;VALUE=URI:https://yuma.armymwr.com/calendar/event
DTSTART;TZID=America/Los_Angeles:20230821T110000
DTEND;TZID=America/Los_Angeles:20230824T130000
SEQUENCE:3
END:VEVENT
BEGIN:VEVENT
UID:sabre-vobject-3b6dc184-74ca-4ee9-83b6-2293d27e2f55
DTSTAMP:20260423T142121Z
SUMMARY:August Lunch Specials
DESCRIPTION:
X-ALT-DESC:FMTTYPE=text/html:<!DOCTYPE HTML PUBLIC "-//W3C//DTD HTML 3.2//E
 N"><HTML></HTML>
CREATED;TZID=America/Los_Angeles:20230801T080017
URL;VALUE=URI:https://yuma.armymwr.com/calendar/event
DTSTART;TZID=America/Los_Angeles:20230828T110000
DTEND;TZID=America/Los_Angeles:20230831T130000
SEQUENCE:4
END:VEVENT
END:VCALENDAR
