BEGIN:VCALENDAR
VERSION:2.0
PRODID:-//Sabre//Sabre VObject 4.5.8//EN
CALSCALE:GREGORIAN
BEGIN:VEVENT
UID:sabre-vobject-a72fa068-263b-4cd7-8079-c6cf2512bd0e
DTSTAMP:20260423T051212Z
SUMMARY:Labor Day Holiday Hours
DESCRIPTION:
X-ALT-DESC:FMTTYPE=text/html:<!DOCTYPE HTML PUBLIC "-//W3C//DTD HTML 3.2//E
 N"><HTML></HTML>
CREATED;TZID=America/Los_Angeles:20230829T134638
URL;VALUE=URI:https://yuma.armymwr.com/calendar/event
DTSTART;TZID=America/Los_Angeles:20230904T000000
DTEND;TZID=America/Los_Angeles:20230904T235959
SEQUENCE:0
END:VEVENT
END:VCALENDAR
