BEGIN:VCALENDAR
VERSION:2.0
PRODID:-//Sabre//Sabre VObject 4.5.8//EN
CALSCALE:GREGORIAN
BEGIN:VEVENT
UID:sabre-vobject-3ea1c90c-e4d7-44fe-b144-d5c940ddaf44
DTSTAMP:20260421T071732Z
SUMMARY:Homeschool P.E.: Badminton 
DESCRIPTION:
X-ALT-DESC:FMTTYPE=text/html:<!DOCTYPE HTML PUBLIC "-//W3C//DTD HTML 3.2//E
 N"><HTML></HTML>
CREATED;TZID=America/Los_Angeles:20230919T115340
URL;VALUE=URI:https://yuma.armymwr.com/calendar/event
DTSTART;TZID=America/Los_Angeles:20230906T130000
DTEND;TZID=America/Los_Angeles:20230906T140000
SEQUENCE:0
END:VEVENT
BEGIN:VEVENT
UID:sabre-vobject-220216c1-26fd-430f-ab07-11d78f4fb496
DTSTAMP:20260421T071732Z
SUMMARY:Homeschool P.E.: Badminton 
DESCRIPTION:
X-ALT-DESC:FMTTYPE=text/html:<!DOCTYPE HTML PUBLIC "-//W3C//DTD HTML 3.2//E
 N"><HTML></HTML>
CREATED;TZID=America/Los_Angeles:20230919T115340
URL;VALUE=URI:https://yuma.armymwr.com/calendar/event
DTSTART;TZID=America/Los_Angeles:20230913T130000
DTEND;TZID=America/Los_Angeles:20230913T140000
SEQUENCE:1
END:VEVENT
BEGIN:VEVENT
UID:sabre-vobject-f04488dd-a190-4fa6-b623-38586413555b
DTSTAMP:20260421T071732Z
SUMMARY:Homeschool P.E.: Badminton 
DESCRIPTION:
X-ALT-DESC:FMTTYPE=text/html:<!DOCTYPE HTML PUBLIC "-//W3C//DTD HTML 3.2//E
 N"><HTML></HTML>
CREATED;TZID=America/Los_Angeles:20230919T115340
URL;VALUE=URI:https://yuma.armymwr.com/calendar/event
DTSTART;TZID=America/Los_Angeles:20230920T130000
DTEND;TZID=America/Los_Angeles:20230920T140000
SEQUENCE:2
END:VEVENT
BEGIN:VEVENT
UID:sabre-vobject-4fe1a22d-87b7-42a6-a568-60a7feb9360d
DTSTAMP:20260421T071732Z
SUMMARY:Homeschool P.E.: Badminton 
DESCRIPTION:
X-ALT-DESC:FMTTYPE=text/html:<!DOCTYPE HTML PUBLIC "-//W3C//DTD HTML 3.2//E
 N"><HTML></HTML>
CREATED;TZID=America/Los_Angeles:20230919T115340
URL;VALUE=URI:https://yuma.armymwr.com/calendar/event
DTSTART;TZID=America/Los_Angeles:20230927T130000
DTEND;TZID=America/Los_Angeles:20230927T140000
SEQUENCE:3
END:VEVENT
END:VCALENDAR
