BEGIN:VCALENDAR
VERSION:2.0
PRODID:-//Sabre//Sabre VObject 4.5.8//EN
CALSCALE:GREGORIAN
BEGIN:VEVENT
UID:sabre-vobject-0bcbf3cc-37f1-4158-ad60-bb2f6bbcde0b
DTSTAMP:20260420T044551Z
SUMMARY:Thursdays Night Football: Right Arm Night
DESCRIPTION:
X-ALT-DESC:FMTTYPE=text/html:<!DOCTYPE HTML PUBLIC "-//W3C//DTD HTML 3.2//E
 N"><HTML></HTML>
CREATED;TZID=America/Los_Angeles:20230905T084637
URL;VALUE=URI:https://yuma.armymwr.com/calendar/event
DTSTART;TZID=America/Los_Angeles:20230914T170000
DTEND;TZID=America/Los_Angeles:20230914T200000
SEQUENCE:0
END:VEVENT
BEGIN:VEVENT
UID:sabre-vobject-9df6ae9d-f5bb-47bd-9cfc-9221687f706b
DTSTAMP:20260420T044551Z
SUMMARY:Thursdays Night Football: Right Arm Night
DESCRIPTION:
X-ALT-DESC:FMTTYPE=text/html:<!DOCTYPE HTML PUBLIC "-//W3C//DTD HTML 3.2//E
 N"><HTML></HTML>
CREATED;TZID=America/Los_Angeles:20230905T084637
URL;VALUE=URI:https://yuma.armymwr.com/calendar/event
DTSTART;TZID=America/Los_Angeles:20230921T170000
DTEND;TZID=America/Los_Angeles:20230921T200000
SEQUENCE:1
END:VEVENT
BEGIN:VEVENT
UID:sabre-vobject-212e0337-950e-47b1-89ed-d04d73c6e8ae
DTSTAMP:20260420T044551Z
SUMMARY:Thursdays Night Football: Right Arm Night
DESCRIPTION:
X-ALT-DESC:FMTTYPE=text/html:<!DOCTYPE HTML PUBLIC "-//W3C//DTD HTML 3.2//E
 N"><HTML></HTML>
CREATED;TZID=America/Los_Angeles:20230905T084637
URL;VALUE=URI:https://yuma.armymwr.com/calendar/event
DTSTART;TZID=America/Los_Angeles:20230928T170000
DTEND;TZID=America/Los_Angeles:20230928T200000
SEQUENCE:2
END:VEVENT
BEGIN:VEVENT
UID:sabre-vobject-0f506153-0e1b-4089-aec5-978c99cf2301
DTSTAMP:20260420T044551Z
SUMMARY:Thursdays Night Football: Right Arm Night
DESCRIPTION:
X-ALT-DESC:FMTTYPE=text/html:<!DOCTYPE HTML PUBLIC "-//W3C//DTD HTML 3.2//E
 N"><HTML></HTML>
CREATED;TZID=America/Los_Angeles:20230905T084637
URL;VALUE=URI:https://yuma.armymwr.com/calendar/event
DTSTART;TZID=America/Los_Angeles:20231012T170000
DTEND;TZID=America/Los_Angeles:20231012T200000
SEQUENCE:3
END:VEVENT
BEGIN:VEVENT
UID:sabre-vobject-95f5696c-5355-4f07-9bf9-8df060c71e02
DTSTAMP:20260420T044551Z
SUMMARY:Thursdays Night Football: Right Arm Night
DESCRIPTION:
X-ALT-DESC:FMTTYPE=text/html:<!DOCTYPE HTML PUBLIC "-//W3C//DTD HTML 3.2//E
 N"><HTML></HTML>
CREATED;TZID=America/Los_Angeles:20230905T084637
URL;VALUE=URI:https://yuma.armymwr.com/calendar/event
DTSTART;TZID=America/Los_Angeles:20231019T170000
DTEND;TZID=America/Los_Angeles:20231019T200000
SEQUENCE:4
END:VEVENT
BEGIN:VEVENT
UID:sabre-vobject-fca00d4b-f0fd-41c5-8513-83d80d6e20c8
DTSTAMP:20260420T044551Z
SUMMARY:Thursdays Night Football: Right Arm Night
DESCRIPTION:
X-ALT-DESC:FMTTYPE=text/html:<!DOCTYPE HTML PUBLIC "-//W3C//DTD HTML 3.2//E
 N"><HTML></HTML>
CREATED;TZID=America/Los_Angeles:20230905T084637
URL;VALUE=URI:https://yuma.armymwr.com/calendar/event
DTSTART;TZID=America/Los_Angeles:20231109T170000
DTEND;TZID=America/Los_Angeles:20231109T200000
SEQUENCE:5
END:VEVENT
BEGIN:VEVENT
UID:sabre-vobject-01d275a0-dd21-4ee1-851f-45f71a466164
DTSTAMP:20260420T044551Z
SUMMARY:Thursdays Night Football: Right Arm Night
DESCRIPTION:
X-ALT-DESC:FMTTYPE=text/html:<!DOCTYPE HTML PUBLIC "-//W3C//DTD HTML 3.2//E
 N"><HTML></HTML>
CREATED;TZID=America/Los_Angeles:20230905T084637
URL;VALUE=URI:https://yuma.armymwr.com/calendar/event
DTSTART;TZID=America/Los_Angeles:20231116T170000
DTEND;TZID=America/Los_Angeles:20231116T200000
SEQUENCE:6
END:VEVENT
BEGIN:VEVENT
UID:sabre-vobject-60fd4846-f9aa-412a-b073-c1f63f1c4150
DTSTAMP:20260420T044551Z
SUMMARY:Thursdays Night Football: Right Arm Night
DESCRIPTION:
X-ALT-DESC:FMTTYPE=text/html:<!DOCTYPE HTML PUBLIC "-//W3C//DTD HTML 3.2//E
 N"><HTML></HTML>
CREATED;TZID=America/Los_Angeles:20230905T084637
URL;VALUE=URI:https://yuma.armymwr.com/calendar/event
DTSTART;TZID=America/Los_Angeles:20231207T170000
DTEND;TZID=America/Los_Angeles:20231207T200000
SEQUENCE:7
END:VEVENT
BEGIN:VEVENT
UID:sabre-vobject-fa44c92d-c0a9-4983-a55b-64aaa1ce2cce
DTSTAMP:20260420T044551Z
SUMMARY:Thursdays Night Football: Right Arm Night
DESCRIPTION:
X-ALT-DESC:FMTTYPE=text/html:<!DOCTYPE HTML PUBLIC "-//W3C//DTD HTML 3.2//E
 N"><HTML></HTML>
CREATED;TZID=America/Los_Angeles:20230905T084637
URL;VALUE=URI:https://yuma.armymwr.com/calendar/event
DTSTART;TZID=America/Los_Angeles:20231221T170000
DTEND;TZID=America/Los_Angeles:20231221T200000
SEQUENCE:8
END:VEVENT
END:VCALENDAR
