BEGIN:VCALENDAR
VERSION:2.0
PRODID:-//Sabre//Sabre VObject 4.5.8//EN
CALSCALE:GREGORIAN
BEGIN:VEVENT
UID:sabre-vobject-f501a2ca-addf-4fc8-925f-e4dea14fc30d
DTSTAMP:20260421T040854Z
SUMMARY:"No More Skeletons in the Closet" 
DESCRIPTION:
X-ALT-DESC:FMTTYPE=text/html:<!DOCTYPE HTML PUBLIC "-//W3C//DTD HTML 3.2//E
 N"><HTML></HTML>
CREATED;TZID=America/Los_Angeles:20230914T071942
URL;VALUE=URI:https://yuma.armymwr.com/calendar/event
DTSTART;TZID=America/Los_Angeles:20231003T163000
DTEND;TZID=America/Los_Angeles:20231003T180000
SEQUENCE:0
END:VEVENT
END:VCALENDAR
