BEGIN:VCALENDAR
VERSION:2.0
PRODID:-//Sabre//Sabre VObject 4.5.8//EN
CALSCALE:GREGORIAN
BEGIN:VEVENT
UID:sabre-vobject-f6b473f1-491a-4080-af0b-8534e37117a0
DTSTAMP:20260419T202453Z
SUMMARY:Homeschool P.E.: Football
DESCRIPTION:
X-ALT-DESC:FMTTYPE=text/html:<!DOCTYPE HTML PUBLIC "-//W3C//DTD HTML 3.2//E
 N"><HTML></HTML>
CREATED;TZID=America/Los_Angeles:20231005T072427
URL;VALUE=URI:https://yuma.armymwr.com/calendar/event
DTSTART;TZID=America/Los_Angeles:20231108T130000
DTEND;TZID=America/Los_Angeles:20231108T140000
SEQUENCE:0
END:VEVENT
BEGIN:VEVENT
UID:sabre-vobject-6feb84f4-7f8b-4217-9c56-41a5a7109a55
DTSTAMP:20260419T202453Z
SUMMARY:Homeschool P.E.: Football
DESCRIPTION:
X-ALT-DESC:FMTTYPE=text/html:<!DOCTYPE HTML PUBLIC "-//W3C//DTD HTML 3.2//E
 N"><HTML></HTML>
CREATED;TZID=America/Los_Angeles:20231005T072427
URL;VALUE=URI:https://yuma.armymwr.com/calendar/event
DTSTART;TZID=America/Los_Angeles:20231115T130000
DTEND;TZID=America/Los_Angeles:20231115T140000
SEQUENCE:1
END:VEVENT
BEGIN:VEVENT
UID:sabre-vobject-a8a62e97-7bb1-46ec-9611-d1c518e664b1
DTSTAMP:20260419T202453Z
SUMMARY:Homeschool P.E.: Football
DESCRIPTION:
X-ALT-DESC:FMTTYPE=text/html:<!DOCTYPE HTML PUBLIC "-//W3C//DTD HTML 3.2//E
 N"><HTML></HTML>
CREATED;TZID=America/Los_Angeles:20231005T072427
URL;VALUE=URI:https://yuma.armymwr.com/calendar/event
DTSTART;TZID=America/Los_Angeles:20231122T130000
DTEND;TZID=America/Los_Angeles:20231122T140000
SEQUENCE:2
END:VEVENT
BEGIN:VEVENT
UID:sabre-vobject-27f34cc9-3c48-4448-882a-ec608eb89133
DTSTAMP:20260419T202453Z
SUMMARY:Homeschool P.E.: Football
DESCRIPTION:
X-ALT-DESC:FMTTYPE=text/html:<!DOCTYPE HTML PUBLIC "-//W3C//DTD HTML 3.2//E
 N"><HTML></HTML>
CREATED;TZID=America/Los_Angeles:20231005T072427
URL;VALUE=URI:https://yuma.armymwr.com/calendar/event
DTSTART;TZID=America/Los_Angeles:20231129T130000
DTEND;TZID=America/Los_Angeles:20231129T140000
SEQUENCE:3
END:VEVENT
END:VCALENDAR
