BEGIN:VCALENDAR
VERSION:2.0
PRODID:-//Sabre//Sabre VObject 4.5.8//EN
CALSCALE:GREGORIAN
BEGIN:VEVENT
UID:sabre-vobject-6e337d09-55f7-4e64-a4c3-8bc3dd1a46ce
DTSTAMP:20260423T142129Z
SUMMARY:Video Games Tournament 
DESCRIPTION:
X-ALT-DESC:FMTTYPE=text/html:<!DOCTYPE HTML PUBLIC "-//W3C//DTD HTML 3.2//E
 N"><HTML></HTML>
CREATED;TZID=America/Los_Angeles:20231005T080014
URL;VALUE=URI:https://yuma.armymwr.com/calendar/event
DTSTART;TZID=America/Los_Angeles:20231103T163000
DTEND;TZID=America/Los_Angeles:20231103T180000
SEQUENCE:0
END:VEVENT
END:VCALENDAR
