BEGIN:VCALENDAR
VERSION:2.0
PRODID:-//Sabre//Sabre VObject 4.5.8//EN
CALSCALE:GREGORIAN
BEGIN:VEVENT
UID:sabre-vobject-41c28a14-9b25-4ffe-9148-089dc7674bda
DTSTAMP:20260424T094038Z
SUMMARY:September Lunch Specials 2024 
DESCRIPTION:
X-ALT-DESC:FMTTYPE=text/html:<!DOCTYPE HTML PUBLIC "-//W3C//DTD HTML 3.2//E
 N"><HTML></HTML>
CREATED;TZID=America/Los_Angeles:20240828T150023
URL;VALUE=URI:https://yuma.armymwr.com/calendar/event
DTSTART;TZID=America/Los_Angeles:20240902T110000
DTEND;TZID=America/Los_Angeles:20240905T130000
SEQUENCE:0
END:VEVENT
BEGIN:VEVENT
UID:sabre-vobject-5c9fd227-b1b1-4c9b-b62a-c694579581f9
DTSTAMP:20260424T094038Z
SUMMARY:September Lunch Specials 2024 
DESCRIPTION:
X-ALT-DESC:FMTTYPE=text/html:<!DOCTYPE HTML PUBLIC "-//W3C//DTD HTML 3.2//E
 N"><HTML></HTML>
CREATED;TZID=America/Los_Angeles:20240828T150023
URL;VALUE=URI:https://yuma.armymwr.com/calendar/event
DTSTART;TZID=America/Los_Angeles:20240909T110000
DTEND;TZID=America/Los_Angeles:20240912T130000
SEQUENCE:1
END:VEVENT
BEGIN:VEVENT
UID:sabre-vobject-f07e0986-f3ee-477e-ac99-93a1301f65ad
DTSTAMP:20260424T094038Z
SUMMARY:September Lunch Specials 2024 
DESCRIPTION:
X-ALT-DESC:FMTTYPE=text/html:<!DOCTYPE HTML PUBLIC "-//W3C//DTD HTML 3.2//E
 N"><HTML></HTML>
CREATED;TZID=America/Los_Angeles:20240828T150023
URL;VALUE=URI:https://yuma.armymwr.com/calendar/event
DTSTART;TZID=America/Los_Angeles:20240916T110000
DTEND;TZID=America/Los_Angeles:20240919T130000
SEQUENCE:2
END:VEVENT
BEGIN:VEVENT
UID:sabre-vobject-9a4c6c62-bc99-463a-943a-65393065186a
DTSTAMP:20260424T094038Z
SUMMARY:September Lunch Specials 2024 
DESCRIPTION:
X-ALT-DESC:FMTTYPE=text/html:<!DOCTYPE HTML PUBLIC "-//W3C//DTD HTML 3.2//E
 N"><HTML></HTML>
CREATED;TZID=America/Los_Angeles:20240828T150023
URL;VALUE=URI:https://yuma.armymwr.com/calendar/event
DTSTART;TZID=America/Los_Angeles:20240923T110000
DTEND;TZID=America/Los_Angeles:20240926T130000
SEQUENCE:3
END:VEVENT
BEGIN:VEVENT
UID:sabre-vobject-2162489f-b06e-4df4-94f5-811f4bd0bd87
DTSTAMP:20260424T094038Z
SUMMARY:September Lunch Specials 2024 
DESCRIPTION:
X-ALT-DESC:FMTTYPE=text/html:<!DOCTYPE HTML PUBLIC "-//W3C//DTD HTML 3.2//E
 N"><HTML></HTML>
CREATED;TZID=America/Los_Angeles:20240828T150023
URL;VALUE=URI:https://yuma.armymwr.com/calendar/event
DTSTART;TZID=America/Los_Angeles:20240930T110000
DTEND;TZID=America/Los_Angeles:20240930T130000
SEQUENCE:4
END:VEVENT
END:VCALENDAR
