BEGIN:VCALENDAR
VERSION:2.0
PRODID:-//Sabre//Sabre VObject 4.5.8//EN
CALSCALE:GREGORIAN
BEGIN:VEVENT
UID:sabre-vobject-a88d1237-418d-4967-9525-c8414dc3869c
DTSTAMP:20260423T185356Z
SUMMARY:Carve Out Domestic Violence 
DESCRIPTION:
X-ALT-DESC:FMTTYPE=text/html:<!DOCTYPE HTML PUBLIC "-//W3C//DTD HTML 3.2//E
 N"><HTML></HTML>
CREATED;TZID=America/Los_Angeles:20240904T082616
URL;VALUE=URI:https://yuma.armymwr.com/calendar/event
DTSTART;TZID=America/Los_Angeles:20241023T163000
DTEND;TZID=America/Los_Angeles:20241023T173000
SEQUENCE:0
END:VEVENT
END:VCALENDAR
