BEGIN:VCALENDAR
VERSION:2.0
PRODID:-//Sabre//Sabre VObject 4.5.8//EN
CALSCALE:GREGORIAN
BEGIN:VEVENT
UID:sabre-vobject-5b14f866-ae56-4137-8353-55b950f716fd
DTSTAMP:20260423T142122Z
SUMMARY:Fall Fest Block Party 
DESCRIPTION:
X-ALT-DESC:FMTTYPE=text/html:<!DOCTYPE HTML PUBLIC "-//W3C//DTD HTML 3.2//E
 N"><HTML></HTML>
CREATED;TZID=America/Los_Angeles:20241002T071154
URL;VALUE=URI:https://yuma.armymwr.com/calendar/event
DTSTART;TZID=America/Los_Angeles:20241025T180000
DTEND;TZID=America/Los_Angeles:20241025T200000
SEQUENCE:0
END:VEVENT
END:VCALENDAR
