BEGIN:VCALENDAR
VERSION:2.0
PRODID:-//Sabre//Sabre VObject 4.5.8//EN
CALSCALE:GREGORIAN
BEGIN:VEVENT
UID:sabre-vobject-fdc77ca9-674a-48b0-bdc6-60516d197366
DTSTAMP:20260422T165622Z
SUMMARY:Homeschool P.E.: Flag Football 
DESCRIPTION:
X-ALT-DESC:FMTTYPE=text/html:<!DOCTYPE HTML PUBLIC "-//W3C//DTD HTML 3.2//E
 N"><HTML></HTML>
CREATED;TZID=America/Los_Angeles:20240925T075919
URL;VALUE=URI:https://yuma.armymwr.com/calendar/event
DTSTART;TZID=America/Los_Angeles:20241106T130000
DTEND;TZID=America/Los_Angeles:20241106T140000
SEQUENCE:0
END:VEVENT
BEGIN:VEVENT
UID:sabre-vobject-28ea772d-30a4-45f5-a182-d5ecce5cd206
DTSTAMP:20260422T165622Z
SUMMARY:Homeschool P.E.: Flag Football 
DESCRIPTION:
X-ALT-DESC:FMTTYPE=text/html:<!DOCTYPE HTML PUBLIC "-//W3C//DTD HTML 3.2//E
 N"><HTML></HTML>
CREATED;TZID=America/Los_Angeles:20240925T075919
URL;VALUE=URI:https://yuma.armymwr.com/calendar/event
DTSTART;TZID=America/Los_Angeles:20241113T130000
DTEND;TZID=America/Los_Angeles:20241113T140000
SEQUENCE:1
END:VEVENT
BEGIN:VEVENT
UID:sabre-vobject-7b91589b-0525-41ec-9dd6-eeeaf78caefa
DTSTAMP:20260422T165622Z
SUMMARY:Homeschool P.E.: Flag Football 
DESCRIPTION:
X-ALT-DESC:FMTTYPE=text/html:<!DOCTYPE HTML PUBLIC "-//W3C//DTD HTML 3.2//E
 N"><HTML></HTML>
CREATED;TZID=America/Los_Angeles:20240925T075919
URL;VALUE=URI:https://yuma.armymwr.com/calendar/event
DTSTART;TZID=America/Los_Angeles:20241120T130000
DTEND;TZID=America/Los_Angeles:20241120T140000
SEQUENCE:2
END:VEVENT
BEGIN:VEVENT
UID:sabre-vobject-83f2ef65-2a9b-407c-94fa-3e46d05049a7
DTSTAMP:20260422T165622Z
SUMMARY:Homeschool P.E.: Flag Football 
DESCRIPTION:
X-ALT-DESC:FMTTYPE=text/html:<!DOCTYPE HTML PUBLIC "-//W3C//DTD HTML 3.2//E
 N"><HTML></HTML>
CREATED;TZID=America/Los_Angeles:20240925T075919
URL;VALUE=URI:https://yuma.armymwr.com/calendar/event
DTSTART;TZID=America/Los_Angeles:20241127T130000
DTEND;TZID=America/Los_Angeles:20241127T140000
SEQUENCE:3
END:VEVENT
END:VCALENDAR
