BEGIN:VCALENDAR
VERSION:2.0
PRODID:-//Sabre//Sabre VObject 4.5.8//EN
CALSCALE:GREGORIAN
BEGIN:VEVENT
UID:sabre-vobject-26cf7ac4-39de-4ede-a5aa-ed731892b423
DTSTAMP:20260422T202042Z
SUMMARY:Turkey Shoot-Out
DESCRIPTION:
X-ALT-DESC:FMTTYPE=text/html:<!DOCTYPE HTML PUBLIC "-//W3C//DTD HTML 3.2//E
 N"><HTML></HTML>
CREATED;TZID=America/Los_Angeles:20240925T093344
URL;VALUE=URI:https://yuma.armymwr.com/calendar/event
DTSTART;TZID=America/Los_Angeles:20241115T160000
DTEND;TZID=America/Los_Angeles:20241115T180000
SEQUENCE:0
END:VEVENT
END:VCALENDAR
