BEGIN:VCALENDAR
VERSION:2.0
PRODID:-//Sabre//Sabre VObject 4.5.8//EN
CALSCALE:GREGORIAN
BEGIN:VEVENT
UID:sabre-vobject-2bc7a324-cb49-401d-b9df-19fdecd0850d
DTSTAMP:20260420T120233Z
SUMMARY:Holiday Hours - Thanksgiving 
DESCRIPTION:
X-ALT-DESC:FMTTYPE=text/html:<!DOCTYPE HTML PUBLIC "-//W3C//DTD HTML 3.2//E
 N"><HTML></HTML>
CREATED;TZID=America/Los_Angeles:20240925T093632
URL;VALUE=URI:https://yuma.armymwr.com/calendar/event
DTSTART;TZID=America/Los_Angeles:20241128T000000
DTEND;TZID=America/Los_Angeles:20241128T235959
SEQUENCE:0
END:VEVENT
BEGIN:VEVENT
UID:sabre-vobject-af72ce35-e6c9-4096-a209-ae23d7f93da2
DTSTAMP:20260420T120233Z
SUMMARY:Holiday Hours - Thanksgiving 
DESCRIPTION:
X-ALT-DESC:FMTTYPE=text/html:<!DOCTYPE HTML PUBLIC "-//W3C//DTD HTML 3.2//E
 N"><HTML></HTML>
CREATED;TZID=America/Los_Angeles:20240925T093632
URL;VALUE=URI:https://yuma.armymwr.com/calendar/event
DTSTART;TZID=America/Los_Angeles:20241129T000000
DTEND;TZID=America/Los_Angeles:20241129T235959
SEQUENCE:1
END:VEVENT
END:VCALENDAR
