BEGIN:VCALENDAR
VERSION:2.0
PRODID:-//Sabre//Sabre VObject 4.5.8//EN
CALSCALE:GREGORIAN
BEGIN:VEVENT
UID:sabre-vobject-be5c3177-4019-47ab-83ef-d38fa8374ef9
DTSTAMP:20260423T021110Z
SUMMARY:Dungeons & Dragons Game Night 
DESCRIPTION:
X-ALT-DESC:FMTTYPE=text/html:<!DOCTYPE HTML PUBLIC "-//W3C//DTD HTML 3.2//E
 N"><HTML></HTML>
CREATED;TZID=America/Los_Angeles:20240925T093757
URL;VALUE=URI:https://yuma.armymwr.com/calendar/event
DTSTART;TZID=America/Los_Angeles:20241107T170000
DTEND;TZID=America/Los_Angeles:20241107T203000
SEQUENCE:0
END:VEVENT
BEGIN:VEVENT
UID:sabre-vobject-8b1ffd81-b965-45ae-833b-6c789059a549
DTSTAMP:20260423T021110Z
SUMMARY:Dungeons & Dragons Game Night 
DESCRIPTION:
X-ALT-DESC:FMTTYPE=text/html:<!DOCTYPE HTML PUBLIC "-//W3C//DTD HTML 3.2//E
 N"><HTML></HTML>
CREATED;TZID=America/Los_Angeles:20240925T093757
URL;VALUE=URI:https://yuma.armymwr.com/calendar/event
DTSTART;TZID=America/Los_Angeles:20241114T170000
DTEND;TZID=America/Los_Angeles:20241114T203000
SEQUENCE:1
END:VEVENT
BEGIN:VEVENT
UID:sabre-vobject-ef1f4d67-f6c6-40ac-beec-f8fa078df2e7
DTSTAMP:20260423T021110Z
SUMMARY:Dungeons & Dragons Game Night 
DESCRIPTION:
X-ALT-DESC:FMTTYPE=text/html:<!DOCTYPE HTML PUBLIC "-//W3C//DTD HTML 3.2//E
 N"><HTML></HTML>
CREATED;TZID=America/Los_Angeles:20240925T093757
URL;VALUE=URI:https://yuma.armymwr.com/calendar/event
DTSTART;TZID=America/Los_Angeles:20241121T170000
DTEND;TZID=America/Los_Angeles:20241121T203000
SEQUENCE:2
END:VEVENT
END:VCALENDAR
