BEGIN:VCALENDAR
VERSION:2.0
PRODID:-//Sabre//Sabre VObject 4.5.8//EN
CALSCALE:GREGORIAN
BEGIN:VEVENT
UID:sabre-vobject-417888a4-f26b-42d1-847c-f729ac8f727b
DTSTAMP:20260423T052055Z
SUMMARY:Cattle Call Rodeo 
DESCRIPTION:
X-ALT-DESC:FMTTYPE=text/html:<!DOCTYPE HTML PUBLIC "-//W3C//DTD HTML 3.2//E
 N"><HTML></HTML>
CREATED;TZID=America/Los_Angeles:20240925T094349
URL;VALUE=URI:https://yuma.armymwr.com/calendar/event
DTSTART;TZID=America/Los_Angeles:20241109T160000
DTEND;TZID=America/Los_Angeles:20241109T000000
SEQUENCE:0
END:VEVENT
END:VCALENDAR
